BEGIN:VCALENDAR
VERSION:2.0
PRODID:-//Helantec | Gasfüllung sichtbar besser//NONSGML kigkonsult.se iCal
 creator 2.30.10//
CALSCALE:GREGORIAN
METHOD:PUBLISH
UID:9635ab18-22fa-4e4c-88fa-37cb7e63f8c6
X-WR-CALNAME:iCagenda
X-WR-CALDESC:Event Management Extension for Joomla!
X-WR-RELCALID:3E26604A-50F4-4449-8B3E-E4F4932D05B5
X-WR-TIMEZONE:UTC
BEGIN:VTIMEZONE
TZID:UTC
END:VTIMEZONE
BEGIN:VEVENT
UID:165a7952-4349-4aee-9264-c6341e44dea2
DTSTAMP:20260420T113230Z
CATEGORIES:Messen
CLASS:PUBLIC
DESCRIPTION;ALTREP="CID:<FFFF__=0ABBE548DFE235B58f9e8a93d@coffeebean.com>":
 Zak Glass Technology Expois India’s premier exhibition on Flat Glass Proce
 ssing Technologies. The display profile of the show has a mix of machinery
 \, hardware\, accessories\, software &amp\; finished products. It has emer
 ged as the most effective marketing medium for manufacturers\, traders and
  service providers pertaining to the glass fraternity of India. The event 
 is held concurrently with the&nbsp\;Zak Doors &amp\; Windows Expo&nbsp\;wh
 ich is focused on fenestration and façade technologies &amp\; products and
 &nbsp\;Zak Aluminium Extrusions Expo&nbsp\;which is dedicated to aluminium
  extrusions and its allied products. The co-location of these 3 events all
 ows them to derive synergy from each other.
DTSTART:20241205T112500Z
DTEND:20241207T112600Z
GEO:00;0
LOCATION:Neu Delhi\, INDIA
ORGANIZER:
SEQUENCE:1
SUMMARY:zakGlass 2024
TRANSP:OPAQUE
URL:https://helantec.de/index.php/de/component/icagenda/9-zakglass-2024?Ite
 mid=123
END:VEVENT
END:VCALENDAR
