BEGIN:VCALENDAR
VERSION:2.0
PRODID:-//Helantec | Gasfüllung sichtbar besser//NONSGML kigkonsult.se iCal
 creator 2.30.10//
CALSCALE:GREGORIAN
METHOD:PUBLISH
UID:0bca0a74-a858-4d6f-afad-c3bfa8454c1a
X-WR-CALNAME:iCagenda
X-WR-CALDESC:Event Management Extension for Joomla!
X-WR-RELCALID:3E26604A-50F4-4449-8B3E-E4F4932D05B5
X-WR-TIMEZONE:UTC
BEGIN:VTIMEZONE
TZID:UTC
END:VTIMEZONE
BEGIN:VEVENT
UID:39332ecc-8525-4d60-ad2b-539f7a84a9e8
DTSTAMP:20260421T002646Z
CATEGORIES:Messen
CLASS:PUBLIC
DESCRIPTION;ALTREP="CID:<FFFF__=0ABBE548DFE235B58f9e8a93d@coffeebean.com>":
 Now in its 17th year\, GlassBuild America is the largest annual gathering 
 place for the entire glass\, window and door industries in North America. 
 Join us September 17-19\, 2019 in Atlanta\, GA.\nPresented by the National
  Glass Association\, now combined with the Glass Association of North Amer
 ica\, along with association sponsors\, the Window &amp\; Door Dealers All
 iance\, the American Architectural Manufacturers Association and the Insul
 ating Glass Manufacturers Alliance\, and in conjunction with the industry’
 s leading publications – Glass Magazine and Window &amp\; Door – GlassBuil
 d America is a comprehensive and united event. With educational forums and
  Express Learning sessions\, abundant networking opportunities and a trade
  show floor full of the latest and most innovative glass and fenestration 
 industries’ machinery\, equipment\, products\, technologies and services\,
  you will walk away from GlassBuild America with knowledge and information
  to help you build a better business
DTSTART:20190917T000000Z
DTEND:20190919T000000Z
GEO:00;0
LOCATION:Georgia World Congress Center
ORGANIZER:
SEQUENCE:1
SUMMARY:GlassBuildAmerica
TRANSP:OPAQUE
URL:https://helantec.de/index.php/de/component/icagenda/4-glassbuildamerica
 ?Itemid=123
END:VEVENT
END:VCALENDAR
