BEGIN:VCALENDAR
VERSION:2.0
PRODID:-//Helantec | Gasfüllung sichtbar besser//NONSGML kigkonsult.se iCal
 creator 2.30.10//
CALSCALE:GREGORIAN
METHOD:PUBLISH
UID:e5e9bff4-ead1-4c67-b16b-009eb747b35a
X-WR-CALNAME:iCagenda
X-WR-CALDESC:Event Management Extension for Joomla!
X-WR-RELCALID:3E26604A-50F4-4449-8B3E-E4F4932D05B5
X-WR-TIMEZONE:UTC
BEGIN:VTIMEZONE
TZID:UTC
END:VTIMEZONE
BEGIN:VEVENT
UID:499eb498-0887-4d09-b220-587d1decc282
DTSTAMP:20260422T120451Z
CATEGORIES:Messen
CLASS:PUBLIC
DESCRIPTION;ALTREP="CID:<FFFF__=0ABBE548DFE235B58f9e8a93d@coffeebean.com>":
 Zak Glass Technology is one of the best-promoted brands in the Indian glas
 s industry\, which is why in 2014 the show managed to receive over 30\,600
  visitors.In addition to the high number of focused visitors\, the presenc
 e of potential buyers from the fenestration industry in the adjoining Zak 
 Doors &amp\; Windows Expo hall is a big advantage of the show.The fair is 
 held concurrently with Zak Doors &amp\; Windows Expo and Zak Aluminum Extr
 usions Expo.High profile and knowledge oriented International conferences 
 are held concurrent to the show covering the worldwide developments and ch
 anging trends in their respective industries.New Delhi is an urban distric
 t of Delhi which serves as the capital of IndiaPragati Maidan is a venue f
 or large exhibitions and conventions in New DelhiThe experienced Zak team 
 has a profound knowledge of local customs and business practices.It has cl
 ose contact and excellent know how of the industry\, the local market and 
 the trade media.Zak Glass Technology co-operates with ministries and offic
 ial organizations and issupported by all important industry associationsTh
 e show is supported by AIGGA\, AIGPA\, CCPS\, FOSG\, which are India’s mos
 t powerful associations for the glass industry\, and ensures a good no of 
 exhibitor and visitor turnout at the show.
DTSTART:20191212T000000Z
DTEND:20191215T000000Z
GEO:00;0
LOCATION:Pragati Maidan
ORGANIZER:
SEQUENCE:1
SUMMARY:Zak Glass Technology
TRANSP:OPAQUE
URL:https://helantec.de/index.php/de/component/icagenda/1-zak-glass-technol
 ogy?Itemid=123
END:VEVENT
END:VCALENDAR
